BEGIN:VCALENDAR
VERSION:2.0
PRODID:-//jEvents 1.5 for Joomla//EN
CALSCALE:GREGORIAN
METHOD:PUBLISH
BEGIN:VEVENT

UID:aea3a45026814d1d82e68a4e70955ccd
CATEGORIES:Default
SUMMARY:Worship with Communion Online
LOCATION:
DESCRIPTION;ENCODING=QUOTED-PRINTABLE:

DTSTAMP:20260422T024611Z
DTSTART:20200503T103000Z
DTEND:20200503T111500Z
SEQUENCE:0
TRANSP:OPAQUE
END:VEVENT
END:VCALENDAR