BEGIN:VCALENDAR
VERSION:2.0
PRODID:-//jEvents 1.5 for Joomla//EN
CALSCALE:GREGORIAN
METHOD:PUBLISH
BEGIN:VEVENT

UID:44e2f855c8493911644458aeb484b2d2
CATEGORIES:Default
SUMMARY:Worship with Communion-Outdoors Weather Permitting
LOCATION:
DESCRIPTION;ENCODING=QUOTED-PRINTABLE:

DTSTAMP:20260420T164441Z
DTSTART:20200705T103000Z
DTEND:20200705T111500Z
SEQUENCE:0
TRANSP:OPAQUE
END:VEVENT
END:VCALENDAR