BEGIN:VCALENDAR
VERSION:2.0
PRODID:-//jEvents 1.5 for Joomla//EN
CALSCALE:GREGORIAN
METHOD:PUBLISH
BEGIN:VEVENT

UID:3b6921b1951e4c285d28cc30be2505e7
CATEGORIES:Default
SUMMARY:Worship Online only
LOCATION:
DESCRIPTION;ENCODING=QUOTED-PRINTABLE:

DTSTAMP:20260421T181930Z
DTSTART:20200712T103000Z
DTEND:20200712T111500Z
SEQUENCE:0
TRANSP:OPAQUE
END:VEVENT
END:VCALENDAR