BEGIN:VCALENDAR
VERSION:2.0
PRODID:-//jEvents 1.5 for Joomla//EN
CALSCALE:GREGORIAN
METHOD:PUBLISH
BEGIN:VEVENT

UID:5eba3a94248d8c1d7000c86bbd6ab1a6
CATEGORIES:Default
SUMMARY:Worship with White Gifts & SS Program
LOCATION:
DESCRIPTION;ENCODING=QUOTED-PRINTABLE:

DTSTAMP:20260422T050304Z
DTSTART:20211219T103000Z
DTEND:20211219T113000Z
SEQUENCE:0
TRANSP:OPAQUE
END:VEVENT
END:VCALENDAR