BEGIN:VCALENDAR
VERSION:2.0
PRODID:-//jEvents 1.5 for Joomla//EN
CALSCALE:GREGORIAN
METHOD:PUBLISH
BEGIN:VEVENT

UID:2f2718e8705a4e61cef0e8291db3df7a
CATEGORIES:Default
SUMMARY:Youth Bible Study
LOCATION:
DESCRIPTION;ENCODING=QUOTED-PRINTABLE:

DTSTAMP:20260420T011629Z
DTSTART:20220216T183000Z
DTEND:20220216T191500Z
SEQUENCE:0
TRANSP:OPAQUE
END:VEVENT
END:VCALENDAR