BEGIN:VCALENDAR
VERSION:2.0
PRODID:-//jEvents 1.5 for Joomla//EN
CALSCALE:GREGORIAN
METHOD:PUBLISH
BEGIN:VEVENT

UID:535d0ba9b61948efe6bdb85bc098261d
CATEGORIES:Default
SUMMARY:Prairie Sunset Communion
LOCATION:
DESCRIPTION;ENCODING=QUOTED-PRINTABLE:

DTSTAMP:20260420T011900Z
DTSTART:20220210T141500Z
DTEND:20220210T150000Z
SEQUENCE:0
TRANSP:OPAQUE
END:VEVENT
END:VCALENDAR