BEGIN:VCALENDAR
VERSION:2.0
PRODID:-//jEvents 1.5 for Joomla//EN
CALSCALE:GREGORIAN
METHOD:PUBLISH
BEGIN:VEVENT

UID:74ae74f5806ae435eb7c86119ed91f22
CATEGORIES:Default
SUMMARY:Memorial Service for Betty Yuly
LOCATION:
DESCRIPTION;ENCODING=QUOTED-PRINTABLE:

DTSTAMP:20260420T025445Z
DTSTART:20220211T190000Z
DTEND:20220211T235959Z
SEQUENCE:0
TRANSP:OPAQUE
END:VEVENT
END:VCALENDAR