BEGIN:VCALENDAR
VERSION:2.0
PRODID:-//jEvents 1.5 for Joomla//EN
CALSCALE:GREGORIAN
METHOD:PUBLISH
BEGIN:VEVENT

UID:cf6b763885f95fc51b512d00f6578241
CATEGORIES:Default
SUMMARY:CHRISTMAS EVE SERVICE
LOCATION:
DESCRIPTION;ENCODING=QUOTED-PRINTABLE:

DTSTAMP:20260423T123503Z
DTSTART:20131224T173000Z
DTEND:20131224T235959Z
SEQUENCE:0
TRANSP:OPAQUE
END:VEVENT
END:VCALENDAR