BEGIN:VCALENDAR
VERSION:2.0
PRODID:-//jEvents 1.5 for Joomla//EN
CALSCALE:GREGORIAN
METHOD:PUBLISH
BEGIN:VEVENT

UID:abde3438e0475f89b11770efcc69b818
CATEGORIES:Default
SUMMARY:Coffee and Fellowship
LOCATION:
DESCRIPTION;ENCODING=QUOTED-PRINTABLE:

DTSTAMP:20260423T100902Z
DTSTART:20131201T103000Z
DTEND:20131201T235959Z
SEQUENCE:0
RRULE:FREQ=WEEKLY;COUNT=5;INTERVAL=1;BYDAY=SU
TRANSP:OPAQUE
END:VEVENT
END:VCALENDAR