BEGIN:VCALENDAR
VERSION:2.0
PRODID:-//jEvents 1.5 for Joomla//EN
CALSCALE:GREGORIAN
METHOD:PUBLISH
BEGIN:VEVENT

UID:6c3a13e94bb7e1039f03475a4be13eb3
CATEGORIES:Default
SUMMARY:Coffee and Fellowship
LOCATION:
DESCRIPTION;ENCODING=QUOTED-PRINTABLE:

DTSTAMP:20260421T211236Z
DTSTART:20140105T103000Z
DTEND:20140105T235959Z
SEQUENCE:0
RRULE:FREQ=WEEKLY;COUNT=52;INTERVAL=1;BYDAY=SU
TRANSP:OPAQUE
END:VEVENT
END:VCALENDAR