BEGIN:VCALENDAR
VERSION:2.0
PRODID:-//jEvents 1.5 for Joomla//EN
CALSCALE:GREGORIAN
METHOD:PUBLISH
BEGIN:VEVENT

UID:e8c219b82f169fb3e40f09aa7764efda
CATEGORIES:Default
SUMMARY:Adult Bible Study & Confirmation
LOCATION:
DESCRIPTION;ENCODING=QUOTED-PRINTABLE:

DTSTAMP:20260421T214808Z
DTSTART:20140112T093000Z
DTEND:20140112T235959Z
SEQUENCE:0
RRULE:FREQ=WEEKLY;COUNT=7;INTERVAL=1;BYDAY=SU
TRANSP:OPAQUE
END:VEVENT
END:VCALENDAR