BEGIN:VCALENDAR
VERSION:2.0
PRODID:-//jEvents 1.5 for Joomla//EN
CALSCALE:GREGORIAN
METHOD:PUBLISH
BEGIN:VEVENT

UID:2cefe75ab7bb15fc4e8b0e13601c4b80
CATEGORIES:Default
SUMMARY:Golden Living Center Worship
LOCATION:
DESCRIPTION;ENCODING=QUOTED-PRINTABLE:

DTSTAMP:20260422T063902Z
DTSTART:20140119T143000Z
DTEND:20140119T235959Z
SEQUENCE:0
TRANSP:OPAQUE
END:VEVENT
END:VCALENDAR