BEGIN:VCALENDAR
VERSION:2.0
PRODID:-//jEvents 1.5 for Joomla//EN
CALSCALE:GREGORIAN
METHOD:PUBLISH
BEGIN:VEVENT

UID:9c3c7eb6dc750cd7bfd5482bbdcdac14
CATEGORIES:Default
SUMMARY:Youth Group Soup & Pie Dinner
LOCATION:
DESCRIPTION;ENCODING=QUOTED-PRINTABLE:

DTSTAMP:20260423T113553Z
DTSTART:20140209T120000Z
DTEND:20140209T235959Z
SEQUENCE:0
TRANSP:OPAQUE
END:VEVENT
END:VCALENDAR