BEGIN:VCALENDAR
VERSION:2.0
PRODID:-//jEvents 1.5 for Joomla//EN
CALSCALE:GREGORIAN
METHOD:PUBLISH
BEGIN:VEVENT

UID:da50953ed9aa9a99a628cc54de99efce
CATEGORIES:Default
SUMMARY:River Ridge & PRairie Sunset Communion
LOCATION:
DESCRIPTION;ENCODING=QUOTED-PRINTABLE:

DTSTAMP:20260424T142522Z
DTSTART:20140313
DTEND:20140313
SEQUENCE:0
TRANSP:OPAQUE
END:VEVENT
END:VCALENDAR