BEGIN:VCALENDAR
VERSION:2.0
PRODID:-//jEvents 1.5 for Joomla//EN
CALSCALE:GREGORIAN
METHOD:PUBLISH
BEGIN:VEVENT

UID:9dc0f0639f38768f06c9d526b92b328a
CATEGORIES:Default
SUMMARY:Confirmation Sunday
LOCATION:
DESCRIPTION;ENCODING=QUOTED-PRINTABLE:

DTSTAMP:20260424T204606Z
DTSTART:20140427
DTEND:20140427
SEQUENCE:0
TRANSP:OPAQUE
END:VEVENT
END:VCALENDAR