BEGIN:VCALENDAR
VERSION:2.0
PRODID:-//jEvents 1.5 for Joomla//EN
CALSCALE:GREGORIAN
METHOD:PUBLISH
BEGIN:VEVENT

UID:77ecd4bd2b0367cc9a333e4e8e21f432
CATEGORIES:Default
SUMMARY:Relay for Life Meeting
LOCATION:
DESCRIPTION;ENCODING=QUOTED-PRINTABLE:

DTSTAMP:20260425T175939Z
DTSTART:20140619T190000Z
DTEND:20140619T235959Z
SEQUENCE:0
TRANSP:OPAQUE
END:VEVENT
END:VCALENDAR