BEGIN:VCALENDAR
VERSION:2.0
PRODID:-//jEvents 1.5 for Joomla//EN
CALSCALE:GREGORIAN
METHOD:PUBLISH
BEGIN:VEVENT

UID:3ca71c5eed35a8af0bf57e39f659e41d
CATEGORIES:Default
SUMMARY:Relay for Life Meeting
LOCATION:
DESCRIPTION;ENCODING=QUOTED-PRINTABLE:\n\n7:00 p.m.\n

DTSTAMP:20260425T024741Z
DTSTART:20140708T190000Z
DTEND:20140708T235959Z
SEQUENCE:0
TRANSP:OPAQUE
END:VEVENT
END:VCALENDAR