BEGIN:VCALENDAR
VERSION:2.0
PRODID:-//jEvents 1.5 for Joomla//EN
CALSCALE:GREGORIAN
METHOD:PUBLISH
BEGIN:VEVENT

UID:3502c403c30d3c62ac73c9c0d9658abc
CATEGORIES:Default
SUMMARY:River Ridge Communion
LOCATION:
DESCRIPTION;ENCODING=QUOTED-PRINTABLE:

DTSTAMP:20260425T175709Z
DTSTART:20140710T153000Z
DTEND:20140710T235959Z
SEQUENCE:0
TRANSP:OPAQUE
END:VEVENT
END:VCALENDAR