BEGIN:VCALENDAR
VERSION:2.0
PRODID:-//jEvents 1.5 for Joomla//EN
CALSCALE:GREGORIAN
METHOD:PUBLISH
BEGIN:VEVENT

UID:cad4e1d59e79a4b8c56c6ebf65007482
CATEGORIES:Default
SUMMARY:Relay for Life Pizza Ranch Fundraiser
LOCATION:
DESCRIPTION;ENCODING=QUOTED-PRINTABLE:

DTSTAMP:20260425T210854Z
DTSTART:20140728T173000Z
DTEND:20140728T193000Z
SEQUENCE:0
TRANSP:OPAQUE
END:VEVENT
END:VCALENDAR