BEGIN:VCALENDAR
VERSION:2.0
PRODID:-//jEvents 1.5 for Joomla//EN
CALSCALE:GREGORIAN
METHOD:PUBLISH
BEGIN:VEVENT

UID:018a6323742358ae66ded64e2ccdc474
CATEGORIES:Default
SUMMARY:Relay For Life~Knock Out Cancer
LOCATION:Tiger Stadium, Mobridge
DESCRIPTION;ENCODING=QUOTED-PRINTABLE:
CONTACT:Pastor Keith Kraft-845-1822, Connie Frailing 845-3132, Cindy Moser 848-1335, Pam Houghtaling 845-7521
X-EXTRAINFO:5:00 p.m.-Survivor Reception6:00 p.m.-Opening "Celebrate" Ceremony6:30 p.m.
 -Survivor Lap6:45 p.m.-BBQ Supper9:30 p.m.-Luminaria "Remember" Ceremony10:
 30 p.m.-Fight Back Ceremonywww.RelayForLife.org/walworthcountysd
DTSTAMP:20260424T123743Z
DTSTART:20140801T170000Z
DTEND:20140802T060000Z
SEQUENCE:0
TRANSP:OPAQUE
END:VEVENT
END:VCALENDAR