BEGIN:VCALENDAR
VERSION:2.0
PRODID:-//jEvents 1.5 for Joomla//EN
CALSCALE:GREGORIAN
METHOD:PUBLISH
BEGIN:VEVENT

UID:3dc0d723ac6c92e630f6666bf52f4b6d
CATEGORIES:Default
SUMMARY:Sunday School
LOCATION:
DESCRIPTION;ENCODING=QUOTED-PRINTABLE:

DTSTAMP:20260421T221042Z
DTSTART:20140907T094500Z
DTEND:20140907T104500Z
SEQUENCE:0
RRULE:FREQ=WEEKLY;UNTIL=20150510T235959Z;INTERVAL=1;BYDAY=SU
EXDATE:20141130T094500Z,20141228T094500Z,20150104T094500Z,20150405T094500Z
TRANSP:OPAQUE
END:VEVENT
END:VCALENDAR