BEGIN:VCALENDAR
VERSION:2.0
PRODID:-//jEvents 1.5 for Joomla//EN
CALSCALE:GREGORIAN
METHOD:PUBLISH
BEGIN:VEVENT

UID:018ea574e710682cdba456e0304b1ff6
CATEGORIES:Default
SUMMARY:Labor Day
LOCATION:
DESCRIPTION;ENCODING=QUOTED-PRINTABLE:
X-EXTRAINFO:Office Closed!
DTSTAMP:20260424T002434Z
DTSTART:20140901T080000Z
DTEND:20140901T235959Z
SEQUENCE:0
TRANSP:OPAQUE
END:VEVENT
END:VCALENDAR