BEGIN:VCALENDAR
VERSION:2.0
PRODID:-//jEvents 1.5 for Joomla//EN
CALSCALE:GREGORIAN
METHOD:PUBLISH
BEGIN:VEVENT

UID:194b8bc0b8eb9e3a70312a2239ffe0c5
CATEGORIES:Default
SUMMARY:Coffee with the Pastor
LOCATION:
DESCRIPTION;ENCODING=QUOTED-PRINTABLE:

DTSTAMP:20260423T110452Z
DTSTART:20140902T093000Z
DTEND:20140902T235959Z
SEQUENCE:0
RRULE:FREQ=MONTHLY;UNTIL=20141217T235959Z;INTERVAL=1;BYMONTHDAY=+2
EXDATE:20141002T093000Z,20141102T093000Z
TRANSP:OPAQUE
END:VEVENT
END:VCALENDAR