BEGIN:VCALENDAR
VERSION:2.0
PRODID:-//jEvents 1.5 for Joomla//EN
CALSCALE:GREGORIAN
METHOD:PUBLISH
BEGIN:VEVENT

UID:b6b177f7480ad6fc910a78fb1ed6e432
CATEGORIES:Default
SUMMARY:Coffee with the Pastor
LOCATION:
DESCRIPTION;ENCODING=QUOTED-PRINTABLE:

DTSTAMP:20260422T224254Z
DTSTART:20140909T093000Z
DTEND:20140909T235959Z
SEQUENCE:0
RRULE:FREQ=WEEKLY;COUNT=15;INTERVAL=1;BYDAY=TU
EXDATE:20141202T093000Z,20141007T093000Z
TRANSP:OPAQUE
END:VEVENT
END:VCALENDAR