BEGIN:VCALENDAR
VERSION:2.0
PRODID:-//jEvents 1.5 for Joomla//EN
CALSCALE:GREGORIAN
METHOD:PUBLISH
BEGIN:VEVENT

UID:bac438d52978c4d40a22ba6f8974fca7
CATEGORIES:Default
SUMMARY:Choir Rehearsal
LOCATION:
DESCRIPTION;ENCODING=QUOTED-PRINTABLE:

DTSTAMP:20260422T224239Z
DTSTART:20140903T190000Z
DTEND:20140903T200000Z
SEQUENCE:0
RRULE:FREQ=WEEKLY;COUNT=4;INTERVAL=1;BYDAY=WE
TRANSP:OPAQUE
END:VEVENT
END:VCALENDAR