BEGIN:VCALENDAR
VERSION:2.0
PRODID:-//jEvents 1.5 for Joomla//EN
CALSCALE:GREGORIAN
METHOD:PUBLISH
BEGIN:VEVENT

UID:a4a62b0966df11bdb1f67af89e84c3f6
CATEGORIES:Default
SUMMARY:Golden Living Center Birthday Party
LOCATION:
DESCRIPTION;ENCODING=QUOTED-PRINTABLE:

DTSTAMP:20260423T020544Z
DTSTART:20140910T140000Z
DTEND:20140910T235959Z
SEQUENCE:0
TRANSP:OPAQUE
END:VEVENT
END:VCALENDAR