BEGIN:VCALENDAR
VERSION:2.0
PRODID:-//jEvents 1.5 for Joomla//EN
CALSCALE:GREGORIAN
METHOD:PUBLISH
BEGIN:VEVENT

UID:70e5edd5ca460ddfa496ed893c3af402
CATEGORIES:Default
SUMMARY:Youth Group
LOCATION:Unterseher Home
DESCRIPTION;ENCODING=QUOTED-PRINTABLE:
X-EXTRAINFO:Youth Group apple picking at the Unterseher home.
DTSTAMP:20260423T230202Z
DTSTART:20140924T180000Z
DTEND:20140924T235959Z
SEQUENCE:0
TRANSP:OPAQUE
END:VEVENT
END:VCALENDAR