BEGIN:VCALENDAR
VERSION:2.0
PRODID:-//jEvents 1.5 for Joomla//EN
CALSCALE:GREGORIAN
METHOD:PUBLISH
BEGIN:VEVENT

UID:0349212dda71c3877b34352665e21960
CATEGORIES:Default
SUMMARY:Prairie Sunset Communion
LOCATION:
DESCRIPTION;ENCODING=QUOTED-PRINTABLE:
X-EXTRAINFO:With Pastor Keith Kraft
DTSTAMP:20260423T073540Z
DTSTART:20141009T141500Z
DTEND:20141009T151500Z
SEQUENCE:0
TRANSP:OPAQUE
END:VEVENT
END:VCALENDAR