BEGIN:VCALENDAR
VERSION:2.0
PRODID:-//jEvents 1.5 for Joomla//EN
CALSCALE:GREGORIAN
METHOD:PUBLISH
BEGIN:VEVENT

UID:bc6e544ed8dc4457a986f3007780b883
CATEGORIES:Default
SUMMARY:River Ridge Communion
LOCATION:
DESCRIPTION;ENCODING=QUOTED-PRINTABLE:
X-EXTRAINFO:With Pastor Keith Kraft
DTSTAMP:20260423T231008Z
DTSTART:20141009T153000Z
DTEND:20141009T163000Z
SEQUENCE:0
TRANSP:OPAQUE
END:VEVENT
END:VCALENDAR