BEGIN:VCALENDAR
VERSION:2.0
PRODID:-//jEvents 1.5 for Joomla//EN
CALSCALE:GREGORIAN
METHOD:PUBLISH
BEGIN:VEVENT

UID:17ca0364ce5aa38a59cf40c806482caf
CATEGORIES:Default
SUMMARY:Committee On Ministry Meeting in Chamberlain
LOCATION:
DESCRIPTION;ENCODING=QUOTED-PRINTABLE:
X-EXTRAINFO:Pastor Keith will be out of the office.
DTSTAMP:20260424T043130Z
DTSTART:20141014T090000Z
DTEND:20141014T235959Z
SEQUENCE:0
TRANSP:OPAQUE
END:VEVENT
END:VCALENDAR