BEGIN:VCALENDAR
VERSION:2.0
PRODID:-//jEvents 1.5 for Joomla//EN
CALSCALE:GREGORIAN
METHOD:PUBLISH
BEGIN:VEVENT

UID:818ceae7fc1bb99d0c8a0b5a2b9645b7
CATEGORIES:Default
SUMMARY:Oahe Association Fall Meeting
LOCATION:Pierre, SD
DESCRIPTION;ENCODING=QUOTED-PRINTABLE:

DTSTAMP:20260424T000740Z
DTSTART:20141012T150000Z
DTEND:20141012T235959Z
SEQUENCE:0
TRANSP:OPAQUE
END:VEVENT
END:VCALENDAR