BEGIN:VCALENDAR
VERSION:2.0
PRODID:-//jEvents 1.5 for Joomla//EN
CALSCALE:GREGORIAN
METHOD:PUBLISH
BEGIN:VEVENT

UID:2b64b6ede9166f7335ac31a1c295f51f
CATEGORIES:Default
SUMMARY:Worship with Baptism
LOCATION:
DESCRIPTION;ENCODING=QUOTED-PRINTABLE:

DTSTAMP:20260422T101239Z
DTSTART:20141109T110000Z
DTEND:20141109T120000Z
SEQUENCE:0
RRULE:FREQ=WEEKLY;COUNT=4;INTERVAL=1;BYDAY=SU
TRANSP:OPAQUE
END:VEVENT
BEGIN:VEVENT
UID:2b64b6ede9166f7335ac31a1c295f51f
CATEGORIES:Default
SUMMARY:Worship
LOCATION:
DESCRIPTION;ENCODING=QUOTED-PRINTABLE:

DTSTAMP:20260422T101239Z
DTSTART:20141109T110000Z
DTEND:20141109T120000Z
RECURRENCE-ID:20141109T110000Z
SEQUENCE:0
TRANSP:OPAQUE
END:VEVENT
BEGIN:VEVENT
UID:2b64b6ede9166f7335ac31a1c295f51f
CATEGORIES:Default
SUMMARY:Totenfest Worship
LOCATION:
DESCRIPTION;ENCODING=QUOTED-PRINTABLE:

DTSTAMP:20260422T101239Z
DTSTART:20141123T110000Z
DTEND:20141123T120000Z
RECURRENCE-ID:20141123T110000Z
SEQUENCE:0
TRANSP:OPAQUE
END:VEVENT
BEGIN:VEVENT
UID:2b64b6ede9166f7335ac31a1c295f51f
CATEGORIES:Default
SUMMARY:Worship
LOCATION:
DESCRIPTION;ENCODING=QUOTED-PRINTABLE:

DTSTAMP:20260422T101239Z
DTSTART:20141130T110000Z
DTEND:20141130T120000Z
RECURRENCE-ID:20141130T110000Z
SEQUENCE:0
TRANSP:OPAQUE
END:VEVENT
END:VCALENDAR