BEGIN:VCALENDAR
VERSION:2.0
PRODID:-//jEvents 1.5 for Joomla//EN
CALSCALE:GREGORIAN
METHOD:PUBLISH
BEGIN:VEVENT

UID:d494bf57e68dc0a00f9bc9f957eb432c
CATEGORIES:Default
SUMMARY:River Ridge Communion
LOCATION:
DESCRIPTION;ENCODING=QUOTED-PRINTABLE:
X-EXTRAINFO:With Pastor Dan Trinity Lutheran
DTSTAMP:20260422T100934Z
DTSTART:20141113T153000Z
DTEND:20141113T235959Z
SEQUENCE:0
TRANSP:OPAQUE
END:VEVENT
END:VCALENDAR