BEGIN:VCALENDAR
VERSION:2.0
PRODID:-//jEvents 1.5 for Joomla//EN
CALSCALE:GREGORIAN
METHOD:PUBLISH
BEGIN:VEVENT

UID:979f4ddc5463168453c6daf7e271d90b
CATEGORIES:Default
SUMMARY:Youth Group Thanksgiving Baskets
LOCATION:
DESCRIPTION;ENCODING=QUOTED-PRINTABLE:

DTSTAMP:20260422T195800Z
DTSTART:20141123T120000Z
DTEND:20141123T235959Z
SEQUENCE:0
TRANSP:OPAQUE
END:VEVENT
END:VCALENDAR