BEGIN:VCALENDAR
VERSION:2.0
PRODID:-//jEvents 1.5 for Joomla//EN
CALSCALE:GREGORIAN
METHOD:PUBLISH
BEGIN:VEVENT

UID:1faf6004d9fdad209f009427f820b0d6
CATEGORIES:Default
SUMMARY:Worship 
LOCATION:
DESCRIPTION;ENCODING=QUOTED-PRINTABLE:

DTSTAMP:20260422T022801Z
DTSTART:20150104T110000Z
DTEND:20150104T120000Z
SEQUENCE:0
TRANSP:OPAQUE
END:VEVENT
END:VCALENDAR