BEGIN:VCALENDAR
VERSION:2.0
PRODID:-//jEvents 1.5 for Joomla//EN
CALSCALE:GREGORIAN
METHOD:PUBLISH
BEGIN:VEVENT

UID:79b77065da49b1ff645a51978f152d77
CATEGORIES:Default
SUMMARY:Confirmation
LOCATION:
DESCRIPTION;ENCODING=QUOTED-PRINTABLE:

DTSTAMP:20260421T021452Z
DTSTART:20150111T093000Z
DTEND:20150111T103000Z
SEQUENCE:0
TRANSP:OPAQUE
END:VEVENT
END:VCALENDAR