BEGIN:VCALENDAR
VERSION:2.0
PRODID:-//jEvents 1.5 for Joomla//EN
CALSCALE:GREGORIAN
METHOD:PUBLISH
BEGIN:VEVENT

UID:8a9f0c15ed735b4e35f66d11545fb8c7
CATEGORIES:Default
SUMMARY:Choir Rehearsal
LOCATION:
DESCRIPTION;ENCODING=QUOTED-PRINTABLE:

DTSTAMP:20260421T152627Z
DTSTART:20150211T190000Z
DTEND:20150211T200000Z
SEQUENCE:0
TRANSP:OPAQUE
END:VEVENT
END:VCALENDAR