BEGIN:VCALENDAR
VERSION:2.0
PRODID:-//jEvents 1.5 for Joomla//EN
CALSCALE:GREGORIAN
METHOD:PUBLISH
BEGIN:VEVENT

UID:6fa8c7c679df6cf013cfa6da33af9b80
CATEGORIES:Default
SUMMARY:Adult Bible Study
LOCATION:
DESCRIPTION;ENCODING=QUOTED-PRINTABLE:

DTSTAMP:20260423T095356Z
DTSTART:20150308T093000Z
DTEND:20150308T103000Z
SEQUENCE:0
TRANSP:OPAQUE
END:VEVENT
END:VCALENDAR