BEGIN:VCALENDAR
VERSION:2.0
PRODID:-//jEvents 1.5 for Joomla//EN
CALSCALE:GREGORIAN
METHOD:PUBLISH
BEGIN:VEVENT

UID:734b72eef2d113dcc1368899038cd3e4
CATEGORIES:Default
SUMMARY:Coffee With the Pastor
LOCATION:
DESCRIPTION;ENCODING=QUOTED-PRINTABLE:

DTSTAMP:20260425T202148Z
DTSTART:20150324T093000Z
DTEND:20150324T103000Z
SEQUENCE:0
TRANSP:OPAQUE
END:VEVENT
END:VCALENDAR