BEGIN:VCALENDAR
VERSION:2.0
PRODID:-//jEvents 1.5 for Joomla//EN
CALSCALE:GREGORIAN
METHOD:PUBLISH
BEGIN:VEVENT

UID:013c47322cc8546fe6f927afcd545044
CATEGORIES:Default
SUMMARY:Sunday School
LOCATION:
DESCRIPTION;ENCODING=QUOTED-PRINTABLE:

DTSTAMP:20260421T181800Z
DTSTART:20151018T094500Z
DTEND:20151018T104500Z
SEQUENCE:0
TRANSP:OPAQUE
END:VEVENT
END:VCALENDAR