BEGIN:VCALENDAR
VERSION:2.0
PRODID:-//jEvents 1.5 for Joomla//EN
CALSCALE:GREGORIAN
METHOD:PUBLISH
BEGIN:VEVENT

UID:1f199733c4415ab614a889be97664c08
CATEGORIES:Default
SUMMARY:Sunday School
LOCATION:
DESCRIPTION;ENCODING=QUOTED-PRINTABLE:

DTSTAMP:20260421T024154Z
DTSTART:20151213T094500Z
DTEND:20151213T104500Z
SEQUENCE:0
TRANSP:OPAQUE
END:VEVENT
END:VCALENDAR