BEGIN:VCALENDAR
VERSION:2.0
PRODID:-//jEvents 1.5 for Joomla//EN
CALSCALE:GREGORIAN
METHOD:PUBLISH
BEGIN:VEVENT

UID:44fa94ad6a1d2403ce0f1a84515a118c
CATEGORIES:Default
SUMMARY:Coffee & Fellowship
LOCATION:
DESCRIPTION;ENCODING=QUOTED-PRINTABLE:

DTSTAMP:20260420T161927Z
DTSTART:20160228T103000Z
DTEND:20160228T110000Z
SEQUENCE:0
TRANSP:OPAQUE
END:VEVENT
END:VCALENDAR