BEGIN:VCALENDAR
VERSION:2.0
PRODID:-//jEvents 1.5 for Joomla//EN
CALSCALE:GREGORIAN
METHOD:PUBLISH
BEGIN:VEVENT

UID:f6c8d8a0865d075a83c031d5a72a8dcd
CATEGORIES:Default
SUMMARY:Sunday School
LOCATION:
DESCRIPTION;ENCODING=QUOTED-PRINTABLE:

DTSTAMP:20260421T054221Z
DTSTART:20160403T094500Z
DTEND:20160403T104500Z
SEQUENCE:0
TRANSP:OPAQUE
END:VEVENT
END:VCALENDAR