BEGIN:VCALENDAR
VERSION:2.0
PRODID:-//jEvents 1.5 for Joomla//EN
CALSCALE:GREGORIAN
METHOD:PUBLISH
BEGIN:VEVENT

UID:b06635c99c3bcc2b4d1952f2948c0159
CATEGORIES:Default
SUMMARY:Choir Rehearsal
LOCATION:
DESCRIPTION;ENCODING=QUOTED-PRINTABLE:

DTSTAMP:20260421T005001Z
DTSTART:20160403T100000Z
DTEND:20160403T104500Z
SEQUENCE:0
TRANSP:OPAQUE
END:VEVENT
END:VCALENDAR