BEGIN:VCALENDAR
VERSION:2.0
PRODID:-//jEvents 1.5 for Joomla//EN
CALSCALE:GREGORIAN
METHOD:PUBLISH
BEGIN:VEVENT

UID:f94325c9a2e5c266930abbe15cd7f665
CATEGORIES:Default
SUMMARY:VBS
LOCATION:United Congregational Church, UCC
DESCRIPTION;ENCODING=QUOTED-PRINTABLE:

DTSTAMP:20260423T040905Z
DTSTART:20160602T173000Z
DTEND:20160602T200000Z
SEQUENCE:0
TRANSP:OPAQUE
END:VEVENT
END:VCALENDAR