BEGIN:VCALENDAR
VERSION:2.0
PRODID:-//jEvents 1.5 for Joomla//EN
CALSCALE:GREGORIAN
METHOD:PUBLISH
BEGIN:VEVENT

UID:1a0790864bed355d8afa7b8166ec9c36
CATEGORIES:Default
SUMMARY:Sunday School
LOCATION:
DESCRIPTION;ENCODING=QUOTED-PRINTABLE:

DTSTAMP:20260420T183332Z
DTSTART:20161120T093000Z
DTEND:20161120T101500Z
SEQUENCE:0
TRANSP:OPAQUE
END:VEVENT
END:VCALENDAR