BEGIN:VCALENDAR
VERSION:2.0
PRODID:-//jEvents 1.5 for Joomla//EN
CALSCALE:GREGORIAN
METHOD:PUBLISH
BEGIN:VEVENT

UID:85ff4ab2b81c165d0c2dfdba7e476460
CATEGORIES:Default
SUMMARY:Adult Bible Study
LOCATION:
DESCRIPTION;ENCODING=QUOTED-PRINTABLE:

DTSTAMP:20260420T020248Z
DTSTART:20170129T091500Z
DTEND:20170129T101500Z
SEQUENCE:0
TRANSP:OPAQUE
END:VEVENT
END:VCALENDAR