BEGIN:VCALENDAR
VERSION:2.0
PRODID:-//jEvents 1.5 for Joomla//EN
CALSCALE:GREGORIAN
METHOD:PUBLISH
BEGIN:VEVENT

UID:b25b9ba8623c530fa176cea4e0e9f66c
CATEGORIES:Default
SUMMARY:Adult Bible Study
LOCATION:
DESCRIPTION;ENCODING=QUOTED-PRINTABLE:

DTSTAMP:20260421T051917Z
DTSTART:20170312T091500Z
DTEND:20170312T101500Z
SEQUENCE:0
TRANSP:OPAQUE
END:VEVENT
END:VCALENDAR