BEGIN:VCALENDAR
VERSION:2.0
PRODID:-//jEvents 1.5 for Joomla//EN
CALSCALE:GREGORIAN
METHOD:PUBLISH
BEGIN:VEVENT

UID:f78aa0b051fd8e74c85c1fd37af230d6
CATEGORIES:Default
SUMMARY:Sunday School
LOCATION:
DESCRIPTION;ENCODING=QUOTED-PRINTABLE:

DTSTAMP:20260420T161842Z
DTSTART:20170326T093000Z
DTEND:20170326T102500Z
SEQUENCE:0
TRANSP:OPAQUE
END:VEVENT
END:VCALENDAR