BEGIN:VCALENDAR
VERSION:2.0
PRODID:-//jEvents 1.5 for Joomla//EN
CALSCALE:GREGORIAN
METHOD:PUBLISH
BEGIN:VEVENT

UID:1fec60d2997da77d2d9d59aa0ca7e23b
CATEGORIES:Default
SUMMARY:COM Meeting
LOCATION:Chicago,IL
DESCRIPTION;ENCODING=QUOTED-PRINTABLE:

DTSTAMP:20260422T224121Z
DTSTART:20170426T080000Z
DTEND:20170426T235959Z
SEQUENCE:0
TRANSP:OPAQUE
END:VEVENT
END:VCALENDAR